BEGIN:VCALENDAR
VERSION:2.0
PRODID:-//Tukios.com/
BEGIN:VEVENT
UID:8372f9db-7698-49b9-92a8-2ab13271aafa@obituaries.elkinsfuneralhome.com
DTSTAMP:20260420T170832Z
DTSTART:20260421T210000Z
DTEND:20260421T220000Z
SUMMARY:Visitation
DESCRIPTION:
URL:https://obituaries.elkinsfuneralhome.com/karen-hill-leavitt
LOCATION: 415 North Seminary Street  Florence AL 35630
GEO:34.8038594;-87.6770048
END:VEVENT
END:VCALENDAR